BEGIN:VCALENDAR
VERSION:2.0
PRODID:-//Hanover-Horton - ECPv6.15.18//NONSGML v1.0//EN
CALSCALE:GREGORIAN
METHOD:PUBLISH
X-WR-CALNAME:Hanover-Horton
X-ORIGINAL-URL:https://www.hanoverhorton.org
X-WR-CALDESC:Events for Hanover-Horton
REFRESH-INTERVAL;VALUE=DURATION:PT1H
X-Robots-Tag:noindex
X-PUBLISHED-TTL:PT1H
BEGIN:VTIMEZONE
TZID:America/Detroit
BEGIN:DAYLIGHT
TZOFFSETFROM:-0500
TZOFFSETTO:-0400
TZNAME:EDT
DTSTART:20240310T070000
END:DAYLIGHT
BEGIN:STANDARD
TZOFFSETFROM:-0400
TZOFFSETTO:-0500
TZNAME:EST
DTSTART:20241103T060000
END:STANDARD
BEGIN:DAYLIGHT
TZOFFSETFROM:-0500
TZOFFSETTO:-0400
TZNAME:EDT
DTSTART:20250309T070000
END:DAYLIGHT
BEGIN:STANDARD
TZOFFSETFROM:-0400
TZOFFSETTO:-0500
TZNAME:EST
DTSTART:20251102T060000
END:STANDARD
BEGIN:DAYLIGHT
TZOFFSETFROM:-0500
TZOFFSETTO:-0400
TZNAME:EDT
DTSTART:20260308T070000
END:DAYLIGHT
BEGIN:STANDARD
TZOFFSETFROM:-0400
TZOFFSETTO:-0500
TZNAME:EST
DTSTART:20261101T060000
END:STANDARD
END:VTIMEZONE
BEGIN:VEVENT
DTSTART;TZID=America/Detroit:20250805T080000
DTEND;TZID=America/Detroit:20250805T170000
DTSTAMP:20260422T100605
CREATED:20250805T185211Z
LAST-MODIFIED:20250805T185211Z
UID:6801-1754380800-1754413200@www.hanoverhorton.org
SUMMARY:Parent/Teacher Conferences - Half Day All Students
DESCRIPTION:Elementary conferences – 12:30 p.m. – 3:30 p.m. by appointment \nElementary Dismissal – 12:15 p.m. \nMiddle/High School Dismissal – 11:-05 a.m.
URL:https://www.hanoverhorton.org/event/parent-teacher-conferences-half-day-all-students-2/
END:VEVENT
BEGIN:VEVENT
DTSTART;VALUE=DATE:20250820
DTEND;VALUE=DATE:20250821
DTSTAMP:20260422T100605
CREATED:20250805T151951Z
LAST-MODIFIED:20250805T153524Z
UID:6793-1755648000-1755734399@www.hanoverhorton.org
SUMMARY:First Day of School - Half Day
DESCRIPTION:Elementary Dismissal – 12:15 p.m. \nMiddle/High School Dismissal – 11:05 a.m.
URL:https://www.hanoverhorton.org/event/first-day-of-school-half-day-5/
END:VEVENT
BEGIN:VEVENT
DTSTART;VALUE=DATE:20250829
DTEND;VALUE=DATE:20250830
DTSTAMP:20260422T100605
CREATED:20250805T152141Z
LAST-MODIFIED:20250805T152141Z
UID:6794-1756425600-1756511999@www.hanoverhorton.org
SUMMARY:No School - Labor Day Weekend
DESCRIPTION:
URL:https://www.hanoverhorton.org/event/no-school-labor-day-weekend-3/
END:VEVENT
END:VCALENDAR