BEGIN:VCALENDAR
VERSION:2.0
PRODID:-//Hanover-Horton - ECPv6.15.18//NONSGML v1.0//EN
CALSCALE:GREGORIAN
METHOD:PUBLISH
X-ORIGINAL-URL:https://www.hanoverhorton.org
X-WR-CALDESC:Events for Hanover-Horton
REFRESH-INTERVAL;VALUE=DURATION:PT1H
X-Robots-Tag:noindex
X-PUBLISHED-TTL:PT1H
BEGIN:VTIMEZONE
TZID:America/Detroit
BEGIN:DAYLIGHT
TZOFFSETFROM:-0500
TZOFFSETTO:-0400
TZNAME:EDT
DTSTART:20220313T070000
END:DAYLIGHT
BEGIN:STANDARD
TZOFFSETFROM:-0400
TZOFFSETTO:-0500
TZNAME:EST
DTSTART:20221106T060000
END:STANDARD
BEGIN:DAYLIGHT
TZOFFSETFROM:-0500
TZOFFSETTO:-0400
TZNAME:EDT
DTSTART:20230312T070000
END:DAYLIGHT
BEGIN:STANDARD
TZOFFSETFROM:-0400
TZOFFSETTO:-0500
TZNAME:EST
DTSTART:20231105T060000
END:STANDARD
BEGIN:DAYLIGHT
TZOFFSETFROM:-0500
TZOFFSETTO:-0400
TZNAME:EDT
DTSTART:20240310T070000
END:DAYLIGHT
BEGIN:STANDARD
TZOFFSETFROM:-0400
TZOFFSETTO:-0500
TZNAME:EST
DTSTART:20241103T060000
END:STANDARD
END:VTIMEZONE
BEGIN:VEVENT
DTSTART;VALUE=DATE:20230901
DTEND;VALUE=DATE:20230902
DTSTAMP:20260424T141018
CREATED:20230804T135904Z
LAST-MODIFIED:20230828T121117Z
UID:5834-1693526400-1693612799@www.hanoverhorton.org
SUMMARY:No School - Labor Day Weekend
DESCRIPTION:
URL:https://www.hanoverhorton.org/event/no-school-memorial-day-weekend/
END:VEVENT
BEGIN:VEVENT
DTSTART;VALUE=DATE:20230904
DTEND;VALUE=DATE:20230905
DTSTAMP:20260424T141018
CREATED:20230804T140059Z
LAST-MODIFIED:20230828T121019Z
UID:5835-1693785600-1693871999@www.hanoverhorton.org
SUMMARY:No School - Labor Day Weekend
DESCRIPTION:
URL:https://www.hanoverhorton.org/event/no-school-memorial-day-weekend-2/
END:VEVENT
BEGIN:VEVENT
DTSTART;TZID=America/Detroit:20230911T180000
DTEND;TZID=America/Detroit:20230911T193000
DTSTAMP:20260424T141018
CREATED:20230908T152103Z
LAST-MODIFIED:20230908T152103Z
UID:5891-1694455200-1694460600@www.hanoverhorton.org
SUMMARY:Board of Education Meeting
DESCRIPTION:
URL:https://www.hanoverhorton.org/event/board-of-education-meeting-29/
END:VEVENT
BEGIN:VEVENT
DTSTART;VALUE=DATE:20230926
DTEND;VALUE=DATE:20230927
DTSTAMP:20260424T141018
CREATED:20230911T133620Z
LAST-MODIFIED:20230911T133620Z
UID:5901-1695686400-1695772799@www.hanoverhorton.org
SUMMARY:School Picture Day
DESCRIPTION:
URL:https://www.hanoverhorton.org/event/school-picture-day-2/
END:VEVENT
BEGIN:VEVENT
DTSTART;TZID=America/Detroit:20230928T190000
DTEND;TZID=America/Detroit:20230928T203000
DTSTAMP:20260424T141018
CREATED:20230911T133731Z
LAST-MODIFIED:20230911T133731Z
UID:5902-1695927600-1695933000@www.hanoverhorton.org
SUMMARY:Powderpuff Football Game
DESCRIPTION:
URL:https://www.hanoverhorton.org/event/powderpuff-football-game/
END:VEVENT
BEGIN:VEVENT
DTSTART;TZID=America/Detroit:20230929T170000
DTEND;TZID=America/Detroit:20230929T170000
DTSTAMP:20260424T141018
CREATED:20230911T133445Z
LAST-MODIFIED:20230911T133445Z
UID:5900-1696006800-1696006800@www.hanoverhorton.org
SUMMARY:Homecoming Parade in Hanover
DESCRIPTION:
URL:https://www.hanoverhorton.org/event/homecoming-parade-in-hanover/
END:VEVENT
BEGIN:VEVENT
DTSTART;TZID=America/Detroit:20230929T190000
DTEND;TZID=America/Detroit:20230929T210000
DTSTAMP:20260424T141018
CREATED:20230911T133415Z
LAST-MODIFIED:20230911T133415Z
UID:5899-1696014000-1696021200@www.hanoverhorton.org
SUMMARY:Homecoming Football Game
DESCRIPTION:
URL:https://www.hanoverhorton.org/event/homecoming-football-game/
END:VEVENT
END:VCALENDAR