BEGIN:VCALENDAR
VERSION:2.0
PRODID:-//Hanover-Horton - ECPv6.15.18//NONSGML v1.0//EN
CALSCALE:GREGORIAN
METHOD:PUBLISH
X-ORIGINAL-URL:https://www.hanoverhorton.org
X-WR-CALDESC:Events for Hanover-Horton
REFRESH-INTERVAL;VALUE=DURATION:PT1H
X-Robots-Tag:noindex
X-PUBLISHED-TTL:PT1H
BEGIN:VTIMEZONE
TZID:America/Detroit
BEGIN:DAYLIGHT
TZOFFSETFROM:-0500
TZOFFSETTO:-0400
TZNAME:EDT
DTSTART:20220313T070000
END:DAYLIGHT
BEGIN:STANDARD
TZOFFSETFROM:-0400
TZOFFSETTO:-0500
TZNAME:EST
DTSTART:20221106T060000
END:STANDARD
BEGIN:DAYLIGHT
TZOFFSETFROM:-0500
TZOFFSETTO:-0400
TZNAME:EDT
DTSTART:20230312T070000
END:DAYLIGHT
BEGIN:STANDARD
TZOFFSETFROM:-0400
TZOFFSETTO:-0500
TZNAME:EST
DTSTART:20231105T060000
END:STANDARD
BEGIN:DAYLIGHT
TZOFFSETFROM:-0500
TZOFFSETTO:-0400
TZNAME:EDT
DTSTART:20240310T070000
END:DAYLIGHT
BEGIN:STANDARD
TZOFFSETFROM:-0400
TZOFFSETTO:-0500
TZNAME:EST
DTSTART:20241103T060000
END:STANDARD
END:VTIMEZONE
BEGIN:VEVENT
DTSTART;VALUE=DATE:20230403
DTEND;VALUE=DATE:20230404
DTSTAMP:20260422T152447
CREATED:20220907T154723Z
LAST-MODIFIED:20220907T154723Z
UID:5450-1680480000-1680566399@www.hanoverhorton.org
SUMMARY:School Resumes
DESCRIPTION:
URL:https://www.hanoverhorton.org/event/school-resumes-6/
END:VEVENT
BEGIN:VEVENT
DTSTART;VALUE=DATE:20230407
DTEND;VALUE=DATE:20230408
DTSTAMP:20260422T152447
CREATED:20220907T154849Z
LAST-MODIFIED:20220907T154849Z
UID:5452-1680825600-1680911999@www.hanoverhorton.org
SUMMARY:No School - Good Friday
DESCRIPTION:
URL:https://www.hanoverhorton.org/event/no-school-good-friday-2/
END:VEVENT
BEGIN:VEVENT
DTSTART;TZID=America/Detroit:20230410T180000
DTEND;TZID=America/Detroit:20230410T193000
DTSTAMP:20260422T152447
CREATED:20220907T151325Z
LAST-MODIFIED:20220907T151325Z
UID:5421-1681149600-1681155000@www.hanoverhorton.org
SUMMARY:Board of Education Meeting
DESCRIPTION:
URL:https://www.hanoverhorton.org/event/board-of-education-meeting-10/
LOCATION:HS/MS Library Media Center
END:VEVENT
BEGIN:VEVENT
DTSTART;VALUE=DATE:20230412
DTEND;VALUE=DATE:20230413
DTSTAMP:20260422T152447
CREATED:20220926T144133Z
LAST-MODIFIED:20220926T144133Z
UID:5474-1681257600-1681343999@www.hanoverhorton.org
SUMMARY:SAT Testing for 11th Grade
DESCRIPTION:
URL:https://www.hanoverhorton.org/event/sat-testing-for-11th-grade/
END:VEVENT
BEGIN:VEVENT
DTSTART;VALUE=DATE:20230412
DTEND;VALUE=DATE:20230413
DTSTAMP:20260422T152447
CREATED:20220926T144220Z
LAST-MODIFIED:20220926T154416Z
UID:5475-1681257600-1681343999@www.hanoverhorton.org
SUMMARY:PSAT Testing for 8th\, 9th\, 10 Grade
DESCRIPTION:
URL:https://www.hanoverhorton.org/event/psat-testing-for-8th-9th-10-grade/
END:VEVENT
BEGIN:VEVENT
DTSTART;VALUE=DATE:20230413
DTEND;VALUE=DATE:20230414
DTSTAMP:20260422T152447
CREATED:20220926T154450Z
LAST-MODIFIED:20220926T154802Z
UID:5476-1681344000-1681430399@www.hanoverhorton.org
SUMMARY:WorkKeys Testing for 11th Grade
DESCRIPTION:
URL:https://www.hanoverhorton.org/event/workkeys-testing-for-11th-grade/
END:VEVENT
BEGIN:VEVENT
DTSTART;VALUE=DATE:20230418
DTEND;VALUE=DATE:20230419
DTSTAMP:20260422T152447
CREATED:20220926T154544Z
LAST-MODIFIED:20220926T154544Z
UID:5477-1681776000-1681862399@www.hanoverhorton.org
SUMMARY:MStep Testing for 11th Grade
DESCRIPTION:
URL:https://www.hanoverhorton.org/event/mstep-testing-for-11th-grade/
END:VEVENT
BEGIN:VEVENT
DTSTART;TZID=America/Detroit:20230424T090000
DTEND;TZID=America/Detroit:20230425T143000
DTSTAMP:20260422T152447
CREATED:20230413T152255Z
LAST-MODIFIED:20230413T152255Z
UID:5644-1682326800-1682433000@www.hanoverhorton.org
SUMMARY:Y5s/Kindergarten Round-Up (By appointment)
DESCRIPTION:Please call the elementary school office at 517-563-0103 for an appointment.
URL:https://www.hanoverhorton.org/event/y5s-kindergarten-round-up-by-appointment/
LOCATION:H-H Elementary\, 131 Fairview St.\, Hanover\, MI\, 49241\, United States
END:VEVENT
BEGIN:VEVENT
DTSTART;TZID=America/Detroit:20230426T090000
DTEND;TZID=America/Detroit:20230426T120000
DTSTAMP:20260422T152447
CREATED:20230413T152414Z
LAST-MODIFIED:20230413T152454Z
UID:5645-1682499600-1682510400@www.hanoverhorton.org
SUMMARY:Y5s/Kindergarten Round-Up (By appointment)
DESCRIPTION:Please call the elementary office at 517-563-0103 for an appointment.
URL:https://www.hanoverhorton.org/event/y5s-kindergarten-round-up-by-appointment-2/
LOCATION:H-H Elementary\, 131 Fairview St.\, Hanover\, MI\, 49241\, United States
END:VEVENT
END:VCALENDAR