BEGIN:VCALENDAR
VERSION:2.0
PRODID:-//Hanover-Horton - ECPv6.15.18//NONSGML v1.0//EN
CALSCALE:GREGORIAN
METHOD:PUBLISH
X-ORIGINAL-URL:https://www.hanoverhorton.org
X-WR-CALDESC:Events for Hanover-Horton
REFRESH-INTERVAL;VALUE=DURATION:PT1H
X-Robots-Tag:noindex
X-PUBLISHED-TTL:PT1H
BEGIN:VTIMEZONE
TZID:America/Detroit
BEGIN:DAYLIGHT
TZOFFSETFROM:-0500
TZOFFSETTO:-0400
TZNAME:EDT
DTSTART:20190310T070000
END:DAYLIGHT
BEGIN:STANDARD
TZOFFSETFROM:-0400
TZOFFSETTO:-0500
TZNAME:EST
DTSTART:20191103T060000
END:STANDARD
BEGIN:DAYLIGHT
TZOFFSETFROM:-0500
TZOFFSETTO:-0400
TZNAME:EDT
DTSTART:20200308T070000
END:DAYLIGHT
BEGIN:STANDARD
TZOFFSETFROM:-0400
TZOFFSETTO:-0500
TZNAME:EST
DTSTART:20201101T060000
END:STANDARD
BEGIN:DAYLIGHT
TZOFFSETFROM:-0500
TZOFFSETTO:-0400
TZNAME:EDT
DTSTART:20210314T070000
END:DAYLIGHT
BEGIN:STANDARD
TZOFFSETFROM:-0400
TZOFFSETTO:-0500
TZNAME:EST
DTSTART:20211107T060000
END:STANDARD
BEGIN:DAYLIGHT
TZOFFSETFROM:-0500
TZOFFSETTO:-0400
TZNAME:EDT
DTSTART:20220313T070000
END:DAYLIGHT
BEGIN:STANDARD
TZOFFSETFROM:-0400
TZOFFSETTO:-0500
TZNAME:EST
DTSTART:20221106T060000
END:STANDARD
END:VTIMEZONE
BEGIN:VEVENT
DTSTART;VALUE=DATE:20201228
DTEND;VALUE=DATE:20210102
DTSTAMP:20260423T075525
CREATED:20200909T145404Z
LAST-MODIFIED:20200909T145404Z
UID:4535-1609113600-1609545599@www.hanoverhorton.org
SUMMARY:Christmas Break - No School
DESCRIPTION:
URL:https://www.hanoverhorton.org/event/christmas-break-no-school-3/
END:VEVENT
BEGIN:VEVENT
DTSTART;VALUE=DATE:20210104
DTEND;VALUE=DATE:20210105
DTSTAMP:20260423T075525
CREATED:20200909T145744Z
LAST-MODIFIED:20200909T145744Z
UID:4536-1609718400-1609804799@www.hanoverhorton.org
SUMMARY:School Resumes
DESCRIPTION:
URL:https://www.hanoverhorton.org/event/school-resumes-4/
END:VEVENT
BEGIN:VEVENT
DTSTART;VALUE=DATE:20210118
DTEND;VALUE=DATE:20210119
DTSTAMP:20260423T075525
CREATED:20200909T182726Z
LAST-MODIFIED:20200909T182726Z
UID:4538-1610928000-1611014399@www.hanoverhorton.org
SUMMARY:No School for All Students
DESCRIPTION:
URL:https://www.hanoverhorton.org/event/no-school-for-all-students-2/
END:VEVENT
BEGIN:VEVENT
DTSTART;TZID=America/Detroit:20210128T183000
DTEND;TZID=America/Detroit:20210128T200000
DTSTAMP:20260423T075525
CREATED:20210106T202049Z
LAST-MODIFIED:20210106T202049Z
UID:4651-1611858600-1611864000@www.hanoverhorton.org
SUMMARY:Board of Education Meeting (Rescheduled Date)
DESCRIPTION:
URL:https://www.hanoverhorton.org/event/board-of-education-meeting-rescheduled-date/
END:VEVENT
END:VCALENDAR